BEGIN:VCALENDAR
VERSION:2.0
PRODID:icalendar-ruby
CALSCALE:GREGORIAN
METHOD:PUBLISH
BEGIN:VEVENT
DTSTAMP:20260420T194150Z
UID:event-225746@stampinup.net
DTSTART;TZID=America/Chicago:20240521T180000
DTEND;TZID=America/Chicago:20240521T203000
CREATED:20240524T201153
DESCRIPTION:Enjoy a fun evening of crafting and playing Bunco online (Zoom)
  for Stampin' Up! product prizes!\n\nCost: $30\, includes projects\, embel
 lishment &amp\; Bunco games\n\nThis event usually fills up quickly. Messag
 e me for event availability and registration information. \n\nEvent link:
  https://stampinup.net/crm/events/225746
LAST-MODIFIED:20240524T201402
LOCATION:Online: Zoom
ORGANIZER;CN=Debra Harrison:mailto:ddharrison25@gmail.com
SUMMARY:Stampin' Bunco Online (Zoom)
URL;VALUE=URI:https://stampinup.net/crm/events/225746
RRULE:FREQ=MONTHLY;BYDAY=3TU
END:VEVENT
END:VCALENDAR
