BEGIN:VCALENDAR
VERSION:2.0
PRODID:icalendar-ruby
CALSCALE:GREGORIAN
METHOD:PUBLISH
BEGIN:VEVENT
DTSTAMP:20260421T200714Z
UID:event-225713@stampinup.net
DTSTART;TZID=Australia/Sydney:20240710T200000
DTEND;TZID=Australia/Sydney:20240710T201500
CREATED:20240524T053207
DESCRIPTION:Blackberry Bliss blog hop\nVisit my blog at 8pm AEST on Wednes
 day to see my creation in the Colour Creations blog hop using the colour c
 oach. \n\nEvent link: https://stampinup.net/crm/events/225713
LAST-MODIFIED:20240612T052001
ORGANIZER;CN=Ros Davidson:mailto:rosnat@iprimus.com.au
SUMMARY:Blackberry Bliss Blog Hop
URL;VALUE=URI:https://stampinup.net/crm/events/225713
END:VEVENT
END:VCALENDAR
