BEGIN:VCALENDAR
VERSION:2.0
PRODID:icalendar-ruby
CALSCALE:GREGORIAN
METHOD:PUBLISH
BEGIN:VEVENT
DTSTAMP:20260421T094449Z
UID:event-225439@stampinup.net
DTSTART;TZID=America/New_York:20240607T190000
DTEND;TZID=America/New_York:20240607T220000
CREATED:20240520T194031
DESCRIPTION:Visitors welcome with an RSVP\n\nEvent link: https://stampinup.
 net/crm/events/225439
LAST-MODIFIED:20240520T194031
ORGANIZER;CN=Kathy Bedell:mailto:kbedell@comcast.net
SUMMARY:Friday Night Stamp Club
URL;VALUE=URI:https://stampinup.net/crm/events/225439
END:VEVENT
END:VCALENDAR
