BEGIN:VCALENDAR
VERSION:2.0
PRODID:icalendar-ruby
CALSCALE:GREGORIAN
METHOD:PUBLISH
BEGIN:VEVENT
DTSTAMP:20260425T104431Z
UID:event-225436@stampinup.net
DTSTART;TZID=America/New_York:20240622T113000
DTEND;TZID=America/New_York:20240622T143000
CREATED:20240520T193344
DESCRIPTION:\n\nEvent link: https://stampinup.net/crm/events/225436
LAST-MODIFIED:20240520T193344
ORGANIZER;CN=Kathy Bedell:mailto:kbedell@comcast.net
SUMMARY:TEAM DSP Meeting
URL;VALUE=URI:https://stampinup.net/crm/events/225436
END:VEVENT
END:VCALENDAR
