BEGIN:VCALENDAR
VERSION:2.0
PRODID:icalendar-ruby
CALSCALE:GREGORIAN
METHOD:PUBLISH
BEGIN:VEVENT
DTSTAMP:20260421T100003Z
UID:event-225218@stampinup.net
DTSTART;TZID=America/Denver:20240526T130000
DTEND;TZID=America/Denver:20240526T150000
CREATED:20240517T105124
DESCRIPTION:You will make 6 cards\, 3 different styles\n\n$20.00 for the cl
 ass\, Limited space availaible \n\nDoor Prizes !!! \n\nTickets for Door 
 prizes are \nRSVP by May 22 \nPay by May 22 \nBring a friend \n \n\nE
 vent link: https://stampinup.net/crm/events/225218
LAST-MODIFIED:20240517T105124
LOCATION:My house
ORGANIZER;CN=Rhonda Stirrat:mailto:rhondastirrat@hotmail.com
SUMMARY:Masculine Class
URL;VALUE=URI:https://stampinup.net/crm/events/225218
END:VEVENT
END:VCALENDAR
