BEGIN:VCALENDAR
VERSION:2.0
PRODID:icalendar-ruby
CALSCALE:GREGORIAN
METHOD:PUBLISH
BEGIN:VEVENT
DTSTAMP:20260420T174622Z
UID:event-224824@stampinup.net
DTSTART;VALUE=DATE:20240713
DTEND;VALUE=DATE:20240714
CREATED:20240512T045418
DESCRIPTION:2 Day Stampin’ Up! retreat with Court\n12 and 13th July 2024\
 nLooking for a weekend of crafting and fun with friends? Then make your wa
 y to my Creative space in Mount Elliot\, for two fun filled days of crafti
 ng at my upcoming Craft Retreat.\nWith plenty of Stampin' Up! products and
  goodies\, make 'n' takes\, and more\, you won't want to miss this brand n
 ew opportunity to explore your creative spirit!\nLots more details on the 
 registration form below so check it out.\nCost $200\nIncludes the Thoughtf
 ul Wishes Bundle and a supplies share in with your weekend kit.\nRegister 
 today via messages\, a call or text message.\nOr flick me a message or giv
 e me a call on mobile 0411 283 376 to book your seat!\n\nEvent link: https
 ://stampinup.net/crm/events/224824
LAST-MODIFIED:20240512T045418
LOCATION:Courts creative spave\, Mount Elliot
ORGANIZER;CN=Courtenay Heuston:mailto:ctheuston@hotmail.com
SUMMARY:July Retreat 2024
URL;VALUE=URI:https://stampinup.net/crm/events/224824
END:VEVENT
END:VCALENDAR
