BEGIN:VCALENDAR
VERSION:2.0
PRODID:icalendar-ruby
CALSCALE:GREGORIAN
METHOD:PUBLISH
BEGIN:VEVENT
DTSTAMP:20260424T003643Z
UID:event-224753@stampinup.net
DTSTART;TZID=America/Halifax:20240711T193000
DTEND;TZID=America/Halifax:20240711T210000
CREATED:20240510T082111
DESCRIPTION:Make 3 cards with this fun stamp &amp\; punch combo!\n\nFeaturi
 ng the Trucking Along Bundle paired with the beautiful new Country Woods p
 aper. Inks: Petal Pink\, Pool Party\, Misty Moonlight\, Smoky Slate.\n\nCl
 ass includes pre-cut card packets PLUS $15 goodie bag. Shipping included. 
 Cost: $38\n\nRegistration Deadline: May 26\n\nLearn more &amp\; sign up he
 re \n\n\n\nPhoto ©️ Stampin' Up!®️\n\nEvent link: https://stampinup
 .net/crm/events/224753
LAST-MODIFIED:20240510T082355
LOCATION:Online
ORGANIZER;CN=Julie Golding Page:mailto:julies.craft.attic@gmail.com
SUMMARY:Trucking Along Class - Online
URL;VALUE=URI:https://stampinup.net/crm/events/224753
END:VEVENT
END:VCALENDAR
