BEGIN:VCALENDAR
VERSION:2.0
PRODID:icalendar-ruby
CALSCALE:GREGORIAN
METHOD:PUBLISH
BEGIN:VEVENT
DTSTAMP:20260424T042013Z
UID:event-224751@stampinup.net
DTSTART;TZID=America/Halifax:20240528T193000
DTEND;TZID=America/Halifax:20240528T210000
CREATED:20240510T081530
DESCRIPTION:Come for a relaxing card-making outing! We'll visit &amp\; crea
 te 3 handmade cards. No card-making experience necessary! Pre-registration
  &amp\; pre-payment required.\n\nClass Fee:\n\n	$30 for class or FREE wi
 th order placed at class (min. $35 pre-tax/shipping)\n	Includes everything
  you need to complete all 3 projects\n	Bring a friend who registers &amp\;
  pays\, and I'll give you both a FREE gift!\n\n\nRegistration &amp\; Payme
 nt Deadline: \n\n\n	Sunday 26 May 2024\n	If the form doesn't work for yo
 u for some reason\, no worries. Just message me &amp\; we'll sort it out!\
 n\nRSVP here\n \n\nEvent link: https://stampinup.net/crm/events/224751
LAST-MODIFIED:20240510T081530
LOCATION:Christ Church Anglican Church Hall\, 30 Prince William Street\, St
  Stephen\, NB
ORGANIZER;CN=Julie Golding Page:mailto:julies.craft.attic@gmail.com
SUMMARY:St Stephen Card Class - In Person
URL;VALUE=URI:https://stampinup.net/crm/events/224751
END:VEVENT
END:VCALENDAR
