BEGIN:VCALENDAR
VERSION:2.0
PRODID:icalendar-ruby
CALSCALE:GREGORIAN
METHOD:PUBLISH
BEGIN:VEVENT
DTSTAMP:20260419T214514Z
UID:event-224650@stampinup.net
DTSTART;TZID=Australia/Perth:20240825T100000
DTEND;TZID=Australia/Perth:20240825T160000
CREATED:20240509T021933
DESCRIPTION:An all-day event card making event not to be missed! Make a min
  of 10 cards. $110 fee covers your class and a goodie bag full of Stampin
 ’ Up! Supplies (valued approx $45). \nThere are prizes and giveaways th
 roughout the day.  Morning and afternoon tea provided. BYO lunch and adh
 esive kit. Payment required in full in advance. Payment is non refundable 
 but is transferable. \n\n\nEvent link: https://stampinup.net/crm/events/2
 24650
LAST-MODIFIED:20240509T021933
LOCATION:My Studio \, 1/30 Gympie Way\, Willetton 
ORGANIZER;CN=Melissa Gifford:mailto:mail@melissagifford.com.au
SUMMARY:All Day Crafting Retreat
URL;VALUE=URI:https://stampinup.net/crm/events/224650
END:VEVENT
END:VCALENDAR
