BEGIN:VCALENDAR
VERSION:2.0
PRODID:icalendar-ruby
CALSCALE:GREGORIAN
METHOD:PUBLISH
BEGIN:VEVENT
DTSTAMP:20260424T134806Z
UID:event-22447@stampinup.net
DTSTART;TZID=America/Halifax:20191112T130000
DTEND;TZID=America/Halifax:20191112T153000
CREATED:20191102T140005
DESCRIPTION:Create these 6 cards for $25.  But if you decide to place a mi
 n order of $45\, you only pay $5 to cover the material.\nBring your basic 
 adhesive kit (snail\, glue dots &amp\; dimensionals)\, but I should have s
 ome on hand if you need to purchase more.\nWill have a door prize give awa
 y!\n\nClass is from 1-3:30pm.  If you don't think you can do them all in 
 that period of time\, I would suggest keeping the coloring to the end\, an
 d if you run out of time\, you can finish at your own pace at home.  As I
  will need time to get supper ready\, eat &amp\; then clean-up and get the
  baskets ready for the 6:30pm class.  Thanks for understanding.\n\nRSVP r
 equired before Nov 8th.\n\nEvent link: https://stampinup.net/crm/events/22
 447
LAST-MODIFIED:20191102T140712
LOCATION:In my studio
ORGANIZER;CN=Joanne Perry:mailto:stampinjo@gmail.com
SUMMARY:Toile of Christmas cardmaking class
URL;VALUE=URI:https://stampinup.net/crm/events/22447
END:VEVENT
END:VCALENDAR
