BEGIN:VCALENDAR
VERSION:2.0
PRODID:icalendar-ruby
CALSCALE:GREGORIAN
METHOD:PUBLISH
BEGIN:VEVENT
DTSTAMP:20260422T222425Z
UID:event-224041@stampinup.net
DTSTART;TZID=Australia/Brisbane:20240525T130000
DTEND;TZID=Australia/Brisbane:20240525T160000
CREATED:20240502T233404
DESCRIPTION:Hello Crafters\nI am still designing the projects for this clas
 s but we will make 3 fun and stunning projects including 3 stepped-up car
 ds (1 at least will be a fun-fold) with matching decorated inserts and env
 elopes! Yes\, decorated matching envelopes!  We will include  the pretti
 est designer series paper and the wonderful stamps and die images of the f
 eatured products\, with mixed sentiments\, decorated inserts and envelopes
 .\n\nCost: $26 PP (including your kit for each project)\, light afternoon 
 tea\nStep by Step Instructions provided so this class is suitable for both
  beginners and more avid crafters &amp\; card makers.\n\n \n\nRSVP with p
 re-payment by 22.5.24 for this boutique small numbers class. (Direct Debit
  or Cash)\n\n \n\nMy bank details for pre-payment after RSVPing are\n\nCo
 mmonwealth bank\n\nLinda P. Tan\n\nBSB  064204\n\nAc no  10085079\n\n \
 n\nTo Bring/Required: Your Basic Kit including scissors\, pencil\, eraser\
 , ruler\, ‘take your pick tool’ and adhesives. We will be using Mini D
 imensionals\, Stampin' Dimensionals\, Multipurpose Liquid Adhesive\, Tear 
 and Tape and Mini Glue Dots.  If you have a bone folder bring it\, and a 
 mini paper trimmer is always useful too.\n\n \n\nIf you need them I will 
 have adhesives available for purchase on the day or you can purchase a cla
 ss adhesive package for $5.\n\nContact me\, or text\, messenger or email: 
 genesispaperie@gmail.com.au\n\nThis is a perfect opportunity to get away a
 nd have some 'me-time'. If you bring a friend who hasn't been before\, I w
 ill have a gift for you. I look forward to having fun creating with you! 
 \n\n \n\nKITS AVAILABLE TO COMPLETE AT HOME WITH PHOTOS/INSTRUCTIONS\n\nI
 f you can’t make the class but would like a kit to complete at home let 
 me know and I can arrange a time for you to drop by to stamp some sentimen
 ts or I can post an unstamped kit out to you with instructions (and you pa
 y $5 postage). \n\nKeep Creating\nLinda\n\n\nEvent link: https://stampinup
 .net/crm/events/224041
LAST-MODIFIED:20240502T233404
LOCATION:Genesis Paperie\, Wishart Qld 4122\, Wishart Qld 4122
ORGANIZER;CN=Linda Tan:mailto:lpt7@bigpond.com
SUMMARY:Crafternoon
URL;VALUE=URI:https://stampinup.net/crm/events/224041
END:VEVENT
END:VCALENDAR
