BEGIN:VCALENDAR
VERSION:2.0
PRODID:icalendar-ruby
CALSCALE:GREGORIAN
METHOD:PUBLISH
BEGIN:VEVENT
DTSTAMP:20260423T193959Z
UID:event-224038@stampinup.net
DTSTART;TZID=Europe/London:20241109T093000
DTEND;TZID=Europe/London:20241109T143000
CREATED:20240502T221218
DESCRIPTION:Come and join us for mega Christmas Craft Extravaganza at the T
 ravellers Home\, Long Lane\, Bexleyheath.\n\nMy classes usually start with
  breakfast (optional &amp\; not included in the cost of the session) and a
  social catch up on events\, then we will dive into a Gourmet Craft Buffet
  where you will move from table to table making a different project at eac
 h one - all Christmas themed so a great opportunity to kickstart your Chri
 stmas Crafting!\n\nI will add in details of the products we will be using 
 once our Mini Catalogue is live!\n\nThis class with be VERY different to m
 y usual classes - think Speed Dating with a trimmer and cardstock!!  Ther
 e will be at least 6 tables\, each one with a different project for Christ
 mas and you will move around the room until you've made your 4 chosen proj
 ects.  If you have time\, you can create extra projects which will be ind
 ividually priced.\n\nThe class fee for this Extravaganze will be for £20
  for 4 projects and includes unlimited tea/coffee or one small soft drink
 .  As always\, breakfasts will be available to purchase from the pub (opt
 ional and not included in the class fee).\n\nUnlimited Coffee or Tea or on
 e small soft drink is included in the session cost\, and I will provide al
 l the stamps\, inks and sundries to complete the projects.  You will need
  to bring your own basic crafting kit (Trimmer\, Scissors\, Adhesives\, Bo
 ne Folder\, Pencil).\n \nPre-Booking is essential to ensure that I have 
 enough kits available.  To book\, simply click on GOING at the bottom by 
 Saturday 26th October 2024 and I will send you a message with payment det
 ails (PayPal Friends &amp\; Family or Bank Transfer).  Places are limited
  to 20 crafters and will only be confirmed once payment has been received
 .\n\nCancellation Policy:- Cancellations received on or after the 27th Oc
 tober 2024 will be refunded the £10.50 class fee.  You are welcome to c
 ollect the kits from my home once the class has been completed.\n\nPlease 
 feel free to share this event with your local friends by clicking on INVIT
 E GUEST below - the more crafters the merrier!\n\n\nEvent link: https://st
 ampinup.net/crm/events/224038
LAST-MODIFIED:20241009T074036
LOCATION:Travellers Home\, Bexleyheath\, Long Lane\, Bexleyheath\, Kent\, D
 A7 5AR
ORGANIZER;CN=Barbara Maynard:mailto:studioat316@gmail.com
SUMMARY:Christmas Craft Extravaganza
URL;VALUE=URI:https://stampinup.net/crm/events/224038
END:VEVENT
END:VCALENDAR
