BEGIN:VCALENDAR
VERSION:2.0
PRODID:icalendar-ruby
CALSCALE:GREGORIAN
METHOD:PUBLISH
BEGIN:VEVENT
DTSTAMP:20260423T191553Z
UID:event-223595@stampinup.net
DTSTART;TZID=America/Denver:20240623T130000
DTEND;TZID=America/Denver:20240623T150000
CREATED:20240430T143450
DESCRIPTION:We'll make 12 cards - 2 each of 6 designs!  No specific theme-
 -let me know if you'd like to see something!\n\nCost is $25 and must be pr
 epaid to hold your spot.  (Only $20 for my club members!)\n\nVenmo:  @tk
 fite\nor mail check to:\nTammy Fite\n6448 Kola Ct NW\nABQ\, NM 87120\n\nEv
 ent link: https://stampinup.net/crm/events/223595
LAST-MODIFIED:20240622T135848
LOCATION:Tammy's House\, 6448 Kola Ct NW
ORGANIZER;CN=Tammy Fite:mailto:stampwithtammy@gmail.com
SUMMARY:Stamp-a-Stack of Cards!
URL;VALUE=URI:https://stampinup.net/crm/events/223595
END:VEVENT
END:VCALENDAR
