BEGIN:VCALENDAR
VERSION:2.0
PRODID:icalendar-ruby
CALSCALE:GREGORIAN
METHOD:PUBLISH
BEGIN:VEVENT
DTSTAMP:20260419T140352Z
UID:event-223585@stampinup.net
DTSTART;TZID=America/New_York:20240612T100000
DTEND;TZID=America/New_York:20240612T123000
CREATED:20240430T130828
DESCRIPTION:See Monday\, June 10th class for details.\n\nEvent link: https:
 //stampinup.net/crm/events/223585
LAST-MODIFIED:20240430T130828
LOCATION:My home\, 4550 FIR DR
ORGANIZER;CN=Eileen Lang:mailto:Eilang56@aol.com
SUMMARY:June Stamp Class
URL;VALUE=URI:https://stampinup.net/crm/events/223585
END:VEVENT
END:VCALENDAR
