BEGIN:VCALENDAR
VERSION:2.0
PRODID:icalendar-ruby
CALSCALE:GREGORIAN
METHOD:PUBLISH
BEGIN:VEVENT
DTSTAMP:20260426T015142Z
UID:event-223583@stampinup.net
DTSTART;TZID=America/New_York:20240610T100000
DTEND;TZID=America/New_York:20240610T123000
CREATED:20240430T130644
DESCRIPTION:All occasion cards will be prepared for class.  Please RSVP by
  Friday\, June 7th if you plan on attending or have any special requests.
   Fee is $2.50 per card and please remember to bring your own adhesive. 
 \n\nEvent link: https://stampinup.net/crm/events/223583
LAST-MODIFIED:20240430T130644
LOCATION:My home\, 4550 FIR DR
ORGANIZER;CN=Eileen Lang:mailto:Eilang56@aol.com
SUMMARY:June Stamp Class
URL;VALUE=URI:https://stampinup.net/crm/events/223583
END:VEVENT
END:VCALENDAR
