BEGIN:VCALENDAR
VERSION:2.0
PRODID:icalendar-ruby
CALSCALE:GREGORIAN
METHOD:PUBLISH
BEGIN:VEVENT
DTSTAMP:20260420T200145Z
UID:event-22330@stampinup.net
DTSTART;TZID=America/New_York:20191228T100000
DTEND;TZID=America/New_York:20191228T130000
CREATED:20191101T184405
DESCRIPTION:You will want to see what is in store for Sale A Bration and ou
 r Spring Occasions Catalog! Beat the post holiday blues!\nCome help me cel
 ebrate the new catalogs for the "spring" - stamping\, gifts\, laughter and
  yummy treats! \nDate: Saturday December 28 2019 \nTime: 10am -  1pm\nC
 ost: $20 or free with a $25 minimum order \nLocation: Viking Arms Inn Mee
 ting Room #153\nRSVP no later than December 15 2019 - Ill need to order an
 d prep product. \n\n\n \n\nEvent link: https://stampinup.net/crm/events/
 22330
LAST-MODIFIED:20191101T184405
LOCATION:Viking Arms Inn - Dawn's Creative Chalet Meeting Room #153 \, 930 
 E Ludington Avenue Ludington MI 49431
ORGANIZER;CN=Dawn Bourgette:mailto:dawn@dawnscreativechalet.com
SUMMARY:Occasions Catalog / Sale A Bration Catalog Kick Off Party! 
URL;VALUE=URI:https://stampinup.net/crm/events/22330
END:VEVENT
END:VCALENDAR
