BEGIN:VCALENDAR
VERSION:2.0
PRODID:icalendar-ruby
CALSCALE:GREGORIAN
METHOD:PUBLISH
BEGIN:VEVENT
DTSTAMP:20260425T150708Z
UID:event-22322@stampinup.net
DTSTART;TZID=America/New_York:20191203T180000
DTEND;TZID=America/New_York:20191203T210000
CREATED:20191101T181754
DESCRIPTION:I will be offering a class at our local Ludington Area Center f
 or the Arts (LACA). Come join us! We will be making Christmas Cards with t
 he Let It Snow Snowman Christmas Suite of products. They are SUPER cute. 
 \nRSVP with LACA 231 845 2787\n107 South Harrison Street\, Ludington MI \
 nWe have 12 spots availalbe! Make sure to register quickly. I have some su
 rprises planned too! \n\nEvent link: https://stampinup.net/crm/events/223
 22
LAST-MODIFIED:20191101T181754
LOCATION:Ludington Center For The Arts LACA \, 107 South Harrison Street\, 
 Ludington Michigan 49431
ORGANIZER;CN=Dawn Bourgette:mailto:dawn@dawnscreativechalet.com
SUMMARY:Ludington Area Center Of The Arts - LACA
URL;VALUE=URI:https://stampinup.net/crm/events/22322
END:VEVENT
END:VCALENDAR
