BEGIN:VCALENDAR
VERSION:2.0
PRODID:icalendar-ruby
CALSCALE:GREGORIAN
METHOD:PUBLISH
BEGIN:VEVENT
DTSTAMP:20260425T172747Z
UID:event-221784@stampinup.net
DTSTART;TZID=America/Chicago:20240516T180000
DTEND;TZID=America/Chicago:20240516T190000
CREATED:20240410T182421
DESCRIPTION:Let's Kit Together!\n\nThis weeks kit  -  TBD!\n\nStampin' 
 Up! offers great kits for cardmaking and crafting. Paper Pumpkin is our mo
 nthly craft subscription box shipped right to your door! Paper Pumpkin inc
 ludes cardmaking and crafting kits too. After your initial kit is delivere
 d you will only need scissors to complete future kits with Paper Pumpkin.\
 n\nMany of our kits are all-inclusive. All-inclusive kits mean that a stam
 p set\, a stamp block\, an ink spot (small cube ink pad) adhesive\, and al
 l the other supplies you need to make your kit\, except scissors. I highly
  recommend our SNIPS scissors for all your crafting needs. \n\nLet's Kit 
 Together is my nearly weekly online interactive class. I hold it on Facebo
 ok as a Facebook Live event. That means anyone with access to Facebook can
  join us. You are welcome to join us live\, or later\, witth the featured 
 kit or a craft of your choice. And I mean Let's Kit Together\, I do not op
 en my kits until class starts. \n\nVideos will be uploaded to YouTube for
  watching and easier searching. Disclosure: Facebook has not always played
  nice and I have been unable to download all my videos and there have been
  sound quality with some of my downloads. \n\nJOIN LETS KIT TOGETHER\n\nS
 HOP FOR KITS \n\nI will see you Thursday a Let's Kit Together.\n\n\nEvent
  link: https://stampinup.net/crm/events/221784
LAST-MODIFIED:20240410T182421
LOCATION:Online
ORGANIZER;CN=Sandy McManus:mailto:needsaribbon@gmail.com
SUMMARY:Let's Kit Together - Kit TBD
URL;VALUE=URI:https://stampinup.net/crm/events/221784
END:VEVENT
END:VCALENDAR
