BEGIN:VCALENDAR
VERSION:2.0
PRODID:icalendar-ruby
CALSCALE:GREGORIAN
METHOD:PUBLISH
BEGIN:VEVENT
DTSTAMP:20260419T212248Z
UID:event-221341@stampinup.net
DTSTART;TZID=America/Phoenix:20240518T093000
DTEND;TZID=America/Phoenix:20240518T110000
CREATED:20240405T160310
DESCRIPTION:Gather together for some coffee (or tea) and conversation\, all
  while creatiing a simple card. RSVP required\, though it's a free event.\
 n\nEvent link: https://stampinup.net/crm/events/221341
LAST-MODIFIED:20240405T160310
LOCATION:My Home\, Legend Hills\, Prescott Valley\, AZ
ORGANIZER;CN=Amy Taylor:mailto:amy@justalittleink.com
SUMMARY:Cards & Coffee Gathering
URL;VALUE=URI:https://stampinup.net/crm/events/221341
END:VEVENT
END:VCALENDAR
