BEGIN:VCALENDAR
VERSION:2.0
PRODID:icalendar-ruby
CALSCALE:GREGORIAN
METHOD:PUBLISH
BEGIN:VEVENT
DTSTAMP:20260425T115340Z
UID:event-221283@stampinup.net
DTSTART;TZID=America/New_York:20240424T110000
DTEND;TZID=America/New_York:20240424T123000
CREATED:20240404T195449
DESCRIPTION:Come Join me for a fun time and learn to stamp at this beginner
  class.\nWe will make cards for Mother's Day\, Graduation and Father's Day
 .\nRegister on the Franklin Library site \nhttps://franklintwp.libnet.inf
 o/event/10406654\n \n\nEvent link: https://stampinup.net/crm/events/22128
 3
LAST-MODIFIED:20240405T111411
LOCATION:Franklin Park Library\, 64 Clover Place\, Franklin Park\, NJ
ORGANIZER;CN=Fran Trischetta:mailto:STAMPINFRAN@SYSSOFTWARE.COM
SUMMARY:Beginner Card Class
URL;VALUE=URI:https://stampinup.net/crm/events/221283
END:VEVENT
END:VCALENDAR
