BEGIN:VCALENDAR
VERSION:2.0
PRODID:icalendar-ruby
CALSCALE:GREGORIAN
METHOD:PUBLISH
BEGIN:VEVENT
DTSTAMP:20260421T055824Z
UID:event-220792@stampinup.net
DTSTART;TZID=America/Chicago:20240413T100000
DTEND;TZID=America/Chicago:20240413T170000
CREATED:20240331T202012
DESCRIPTION:Team event for Silver title &amp\; above\n\nEvent link: https:/
 /stampinup.net/crm/events/220792
LAST-MODIFIED:20240331T202012
ORGANIZER;CN=Terri Gaines:mailto:terri@createwithterrigaines.com
SUMMARY:'Inking of You' Celebrate Silvers Day 
URL;VALUE=URI:https://stampinup.net/crm/events/220792
END:VEVENT
END:VCALENDAR
