BEGIN:VCALENDAR
VERSION:2.0
PRODID:icalendar-ruby
CALSCALE:GREGORIAN
METHOD:PUBLISH
BEGIN:VEVENT
DTSTAMP:20260424T041719Z
UID:event-220786@stampinup.net
DTSTART;TZID=America/Chicago:20240613T130000
DTEND;TZID=America/Chicago:20240613T150000
CREATED:20240331T174853
DESCRIPTION:Registration for this class opens soon! \n\nAnd\, as always\, 
 if I can answer any questions please don’t hesitate to reach out to me a
 t Leslie@theplaidpoodle.com\n\n\n \n\n\nEvent link: https://stampinup.ne
 t/crm/events/220786
LAST-MODIFIED:20240331T175505
LOCATION:My Home in Lee's Summit\, MO
ORGANIZER;CN=Leslie Benson:mailto:Lesliebenson9425@gmail.com
SUMMARY:June Card-Making Classes
URL;VALUE=URI:https://stampinup.net/crm/events/220786
END:VEVENT
END:VCALENDAR
