BEGIN:VCALENDAR
VERSION:2.0
PRODID:icalendar-ruby
CALSCALE:GREGORIAN
METHOD:PUBLISH
BEGIN:VEVENT
DTSTAMP:20260420T051023Z
UID:event-220096@stampinup.net
DTSTART;TZID=America/New_York:20240816T170000
DTEND;TZID=America/New_York:20240816T210000
CREATED:20240324T102858
DESCRIPTION:Come on over to make 6 cards with envelopes that you get to cho
 ose from my All Occasion Card Buffet for $30.\n \nAny extra cards made wi
 ll be $4 each.\n\nBring a friend with you who hasn't stamped with me befor
 e and your class will be 1/2 price!\n\nWe'll be ordering pizza so bring a 
 few extra bucks.\nBYOB.  Bottled water provided.\n\nPlease RSVP by Wednes
 day\, the 14th to secure your spot at the table.\n\nEvent link: https://st
 ampinup.net/crm/events/220096
LAST-MODIFIED:20240802T062026
LOCATION:Sue's Home\, 3232 Maiden Lane
ORGANIZER;CN=Sue Dillon:mailto:suedsnooze@gmail.com
SUMMARY:FAB Friday with Fabulous Friends\, Pizza & Stamping!!
URL;VALUE=URI:https://stampinup.net/crm/events/220096
END:VEVENT
END:VCALENDAR
