BEGIN:VCALENDAR
VERSION:2.0
PRODID:icalendar-ruby
CALSCALE:GREGORIAN
METHOD:PUBLISH
BEGIN:VEVENT
DTSTAMP:20260421T101242Z
UID:event-219779@stampinup.net
DTSTART;TZID=America/New_York:20240604T093000
DTEND;TZID=America/New_York:20240604T123000
CREATED:20240321T134112
DESCRIPTION:\n\nI would like to invite you to my JUNE 4\, 2024 Creative Th
 erapy Card Making Class.\n \n\nI am offering five cards\, and I hope you
 r schedule will permit you to come and play with some cardstock\, ink &a
 mp\; rubber stamps and fellowship with others who have the same common int
 erest-paper crafting.  To see examples of my cards and projects\, pleas
 e visit my blog at:  www.devotedstamper.com\nSchedule is as follows:\n\n
  \n\n\n\n\nTuesday\, June 4\, 2024\,  from 9:30 to 12:30\nSaturday\, J
 une 8\, 2024\, from 9:30 to 12:30\n\n\n\nAll classes are held in my stam
 ping studio at my home at 555 Williamsdale Road\, Graham\, NC 27253. \nT
 he cost of this class is $22.00\, and you bring your own adhesives\, or 
 $27.00 and I provide your adhesives. \n\nThere are no additional class fe
 es\, and the fun and fellowship are free.  \n \n\n Please RSVP and prep
 ay no later than May 22\, 2024\, so that I have adequate time to prepare.
   SPACED IS VERY LIMITED\, AND FIRST COME\, FIRST SERVED.  \n\nYou may 
 prepay by PayPal thru Family &amp\; Friends\, or by mailing a check to me
  at: \n555 Williamsdale Road\, Graham\, NC 27253.  \nYour space is conf
 irmed when payment is received.  \n\nIf you cannot attend after payment 
 is received\, and I have prepared your kits\, we can make arrangements fo
 r you to pick up your kits.\n\n\n	If you would like the cards kits and can
 not attend\, I offer Kits-to-Go.  See details below:\n\n	\n		Kits-to-go 
 $22.00\, and porch pick-up.\n		Kits-to-Go\, mailed to you\,  $30.00\n	\n	
 \n\n\nIf you have any questions\, please do not hesitate to contact me eit
 her by phone or text: 336-260-2173\, or email angelsofjoy@gmail.com.
 \n\n\n\nLinda Fisher\nStampin' Up! Demonstrator\n\n\n\n\n\n\n\n\n \n\n\n\
 n\nEvent link: https://stampinup.net/crm/events/219779
LAST-MODIFIED:20240427T183620
LOCATION:My Home\, 555 Williamsdale Road\, Graham\, NC 27253
ORGANIZER;CN=Linda Fisher:mailto:angelsofjoy@gmail.com
SUMMARY:JUNE4\, 2024 Creative Therapy Card Making Class
URL;VALUE=URI:https://stampinup.net/crm/events/219779
END:VEVENT
END:VCALENDAR
