BEGIN:VCALENDAR
VERSION:2.0
PRODID:icalendar-ruby
CALSCALE:GREGORIAN
METHOD:PUBLISH
BEGIN:VEVENT
DTSTAMP:20260424T043811Z
UID:event-219688@stampinup.net
DTSTART;TZID=America/Phoenix:20240418T130000
DTEND;TZID=America/Phoenix:20240418T150000
CREATED:20240321T072202
DESCRIPTION:Join me as we create three handmade greeting cards using Stampi
 n' Up! rubber stamps\, ink\, and paper. I provide all of the materials and
  offer step-by-step instructions. \n\nCost is $15 or free with a $25 purc
 hsae before tax and shipping.\n\nThis class is the same as the others sche
 duled this week.\n\nwww.kimplayswithpaper.com\n\nEvent link: https://stamp
 inup.net/crm/events/219688
LAST-MODIFIED:20240321T072202
LOCATION:My Home\, East Mesa\, Arizona
ORGANIZER;CN=Kim Quade:mailto:kimqskards@gmail.com
SUMMARY:Create with Kim--April 18
URL;VALUE=URI:https://stampinup.net/crm/events/219688
END:VEVENT
END:VCALENDAR
