BEGIN:VCALENDAR
VERSION:2.0
PRODID:icalendar-ruby
CALSCALE:GREGORIAN
METHOD:PUBLISH
BEGIN:VEVENT
DTSTAMP:20260420T002036Z
UID:event-219474@stampinup.net
DTSTART;TZID=Europe/Amsterdam:20240403T200000
DTEND;TZID=Europe/Amsterdam:20240403T223000
CREATED:20240318T091059
DESCRIPTION:Tijdens deze workshop gaan we spelen met inkt. Je leert een paa
 r leuke technieken die je thuis ook gemakkelijk kan doen. We maken 3 kaart
 en voor verschillende gelegenheden.\n\nKosten: € 20\,00 \nInclusief Wor
 kshopppakket met alle benodigdheden\, incl. 2 Stampin' Write markers (stif
 ten met inkt op waterbasis\, t.w.v. € 4\,25 p/s\, na betaling stuur ik j
 e de kleuren toe waaruit je kan kiezen). Koffie/thee en wat lekkers.\n\nEe
 n workshoppakket voor thuis is ook mogelijk\, je krijgt dan hetzelfde work
 shoppakket met de benodigde materialen (incl. 2 markers). Excl. eventuele 
 verzendkosten.\n\nLet op het zijn in dit geval dus géén Stampin' Blends 
 (alcoholmarkers). We gaan aan de slag met de gewone inkt.\n\nAanmelden kan
  tot 27 maart i.v.m. het bestellen van de materialen. Graag via Mail (info
 @korucreativitijd.nl) of WhatsApp (06 - 199 86 106) aanmelden.\n\nEvent li
 nk: https://stampinup.net/crm/events/219474
LAST-MODIFIED:20240318T091059
LOCATION:Koru Creativitijd\, Linnenstraat 22\, Zeeland (NBr.)
ORGANIZER;CN=Ingrid Heijnen:mailto:korucreativitijd@gmail.com
SUMMARY:Workshop - Spelen met inkt
URL;VALUE=URI:https://stampinup.net/crm/events/219474
END:VEVENT
END:VCALENDAR
