BEGIN:VCALENDAR
VERSION:2.0
PRODID:icalendar-ruby
CALSCALE:GREGORIAN
METHOD:PUBLISH
BEGIN:VEVENT
DTSTAMP:20260419T115743Z
UID:event-219103@stampinup.net
DTSTART;TZID=America/New_York:20240430T183000
DTEND;TZID=America/New_York:20240430T203000
CREATED:20240310T095940
DESCRIPTION:"Girls" Only Card Class\nTuesday\, April 30th\n6:30 - 8:30 PM\n
 $20.00\nThis class will focus on creating (4) "girly" theme cards for all 
 the amazing women in your life.  Please bring your own adhesive to class.
 \n\nClass fee due by April 22nd to be registered for class\n\nPlease call 
 or email me to register for this class\n\nEvent link: https://stampinup.ne
 t/crm/events/219103
LAST-MODIFIED:20240310T095940
LOCATION:Mentor\, OH\, 7239 Reynolds Road\, Mentor
ORGANIZER;CN=Leigh Amburgey:mailto:themaidmom@att.net
SUMMARY:"Girls" Only Card Class
URL;VALUE=URI:https://stampinup.net/crm/events/219103
END:VEVENT
END:VCALENDAR
