BEGIN:VCALENDAR
VERSION:2.0
PRODID:icalendar-ruby
CALSCALE:GREGORIAN
METHOD:PUBLISH
BEGIN:VEVENT
DTSTAMP:20260422T095458Z
UID:event-2188@stampinup.net
DTSTART;TZID=America/New_York:20190930T180000
DTEND;TZID=America/New_York:20190930T210000
CREATED:20190911T142041
DESCRIPTION:You will make 8 cards with envelopes\, at each class - 4 design
 s\, 2 of each.  The class fee is $25 per class and I ask that you bring y
 our adhesive\, glue dots and dimensionals.\nRSVP by 9/23\n\nEvent link: ht
 tps://stampinup.net/crm/events/2188
LAST-MODIFIED:20190911T142041
LOCATION:Mary's House\, 8 Wishful Trail Rochester 14624
ORGANIZER;CN=Mary Rodgers:mailto:maryrodgers_su@yahoo.com
SUMMARY:Holiday Card Class
URL;VALUE=URI:https://stampinup.net/crm/events/2188
END:VEVENT
END:VCALENDAR
