BEGIN:VCALENDAR
VERSION:2.0
PRODID:icalendar-ruby
CALSCALE:GREGORIAN
METHOD:PUBLISH
BEGIN:VEVENT
DTSTAMP:20260420T114524Z
UID:event-218356@stampinup.net
DTSTART;TZID=America/Chicago:20240412T190000
DTEND;TZID=America/Chicago:20240412T203000
CREATED:20240302T091412
DESCRIPTION:Connie &amp\; I are teaming up to help us all create &amp\; con
 nect as a team!  This will be a night of celebrating\, milestones\, achie
 vements\, welcoming new members\, opportunity night for people on the fenc
 e\, and CRAFTING! \nWe are celebrating the 1st Caledar Quarter! \nSnacks
 \, Make &amp\; Take\, and lots of laughs!\n\nEvent link: https://stampinup
 .net/crm/events/218356
LAST-MODIFIED:20240302T091536
LOCATION:Connie's House
ORGANIZER;CN=Laura Venvertloh:mailto:laurascreativecorner2007@gmail.com
SUMMARY:Creative Celebrations @ Connie's
URL;VALUE=URI:https://stampinup.net/crm/events/218356
END:VEVENT
END:VCALENDAR
