BEGIN:VCALENDAR
VERSION:2.0
PRODID:icalendar-ruby
CALSCALE:GREGORIAN
METHOD:PUBLISH
BEGIN:VEVENT
DTSTAMP:20260423T145357Z
UID:event-21759@stampinup.net
DTSTART;TZID=America/New_York:20191117T060000
DTEND;TZID=America/New_York:20191117T230000
CREATED:20191030T104102
DESCRIPTION:I will be out of the office with limited access to email and ph
 one will attending Stampin' Up!'s OnStage training event. I look forward t
 o connecting with you upon my return. \n\nEvent link: https://stampinup.n
 et/crm/events/21759
LAST-MODIFIED:20191030T104102
LOCATION:Atlanta\, GA
ORGANIZER;CN=Lisa Curcio:mailto:orders@lisasstampstudio.com
SUMMARY:Stampin' Up!'s OnStage Event
URL;VALUE=URI:https://stampinup.net/crm/events/21759
END:VEVENT
END:VCALENDAR
