BEGIN:VCALENDAR
VERSION:2.0
PRODID:icalendar-ruby
CALSCALE:GREGORIAN
METHOD:PUBLISH
BEGIN:VEVENT
DTSTAMP:20260421T100029Z
UID:event-21757@stampinup.net
DTSTART;TZID=America/New_York:20191107T200000
DTEND;TZID=America/New_York:20191107T210000
CREATED:20191030T103820
DESCRIPTION:Members of my Hawaii Ink stamping team meet virtually for a Liv
 e event that includes paper crafting demonstration and product prize patr
 ol. Want to join my team? CLICK HERE\n\n\nEvent link: https://stampinup.ne
 t/crm/events/21757
LAST-MODIFIED:20191030T103820
ORGANIZER;CN=Lisa Curcio:mailto:orders@lisasstampstudio.com
SUMMARY:Inspiration Night
URL;VALUE=URI:https://stampinup.net/crm/events/21757
END:VEVENT
END:VCALENDAR
