BEGIN:VCALENDAR
VERSION:2.0
PRODID:icalendar-ruby
CALSCALE:GREGORIAN
METHOD:PUBLISH
BEGIN:VEVENT
DTSTAMP:20260420T232318Z
UID:event-217478@stampinup.net
DTSTART;TZID=America/New_York:20240409T090000
DTEND;TZID=America/New_York:20240409T120000
CREATED:20240221T192038
DESCRIPTION:Betties Buddies Stamp Club meets once a month to create and lea
 rn something new!  They have been going strong for over 20+ years of stam
 ping together.  They also welcome new memebers if you are local.  Messag
 e me for details.\n\nOr consider creating your own club with a group of fr
 iends.\n\nEvent link: https://stampinup.net/crm/events/217478
LAST-MODIFIED:20240221T192038
LOCATION:Port Byron Senior Center\, Port Byron\, NY
ORGANIZER;CN=Nancy Thompson:mailto:stampinnancyink@gmail.com
SUMMARY:Betties Buddies Stamp Club
URL;VALUE=URI:https://stampinup.net/crm/events/217478
END:VEVENT
END:VCALENDAR
