BEGIN:VCALENDAR
VERSION:2.0
PRODID:icalendar-ruby
CALSCALE:GREGORIAN
METHOD:PUBLISH
BEGIN:VEVENT
DTSTAMP:20260420T021917Z
UID:event-217476@stampinup.net
DTSTART;TZID=America/New_York:20240414T130000
DTEND;TZID=America/New_York:20240414T160000
CREATED:20240221T191113
DESCRIPTION:The Inkin' With Heart Stampers Team gather to share ideas\, ins
 pire each other and talk a little bit of business of what is happening at 
 Stampin' Up!.  \n\nIt's a great community that welcomes everyone to be a 
 part of it and share creativity!  The best part is\, the fun Make n' Take
 s at each meeting!\n\nCome join the Stampin' Up! family so you can be a pa
 rt of it!\n\nEvent link: https://stampinup.net/crm/events/217476
LAST-MODIFIED:20240221T191113
LOCATION:Nancy's Stamp Studio & Zoom
ORGANIZER;CN=Nancy Thompson:mailto:stampinnancyink@gmail.com
SUMMARY:Inkin With Heart Stampers Team Meeting
URL;VALUE=URI:https://stampinup.net/crm/events/217476
END:VEVENT
END:VCALENDAR
