BEGIN:VCALENDAR
VERSION:2.0
PRODID:icalendar-ruby
CALSCALE:GREGORIAN
METHOD:PUBLISH
BEGIN:VEVENT
DTSTAMP:20260422T210305Z
UID:event-216852@stampinup.net
DTSTART;TZID=America/Denver:20240818T140000
DTEND;TZID=America/Denver:20240818T160000
CREATED:20240213T123630
DESCRIPTION:Host:  Brenda\nSwap Theme:  \n\nEvent link: https://stampinu
 p.net/crm/events/216852
LAST-MODIFIED:20240213T123630
LOCATION:Tammy's House\, 6448 Kola Ct NW
ORGANIZER;CN=Tammy Fite:mailto:stampwithtammy@gmail.com
SUMMARY:Stamp Club Meeting
URL;VALUE=URI:https://stampinup.net/crm/events/216852
END:VEVENT
END:VCALENDAR
