BEGIN:VCALENDAR
VERSION:2.0
PRODID:icalendar-ruby
CALSCALE:GREGORIAN
METHOD:PUBLISH
BEGIN:VEVENT
DTSTAMP:20260422T115844Z
UID:event-216490@stampinup.net
DTSTART;TZID=America/Los_Angeles:20240216T080000
DTEND;TZID=America/Los_Angeles:20240216T090000
CREATED:20240207T131028
DESCRIPTION:Join us for a virtual class where we will be making 3 projects 
 featuring fun folds.\n\nClass fee:  $25\nRegister by February 2 \nContac
 t me for registration details\n\nEvent link: https://stampinup.net/crm/eve
 nts/216490
LAST-MODIFIED:20240207T131028
LOCATION:Virtual
ORGANIZER;CN=Dayanna Donng:mailto:dayannadonng@gmail.com
SUMMARY:Card Class (Virtual)
URL;VALUE=URI:https://stampinup.net/crm/events/216490
END:VEVENT
END:VCALENDAR
