BEGIN:VCALENDAR
VERSION:2.0
PRODID:icalendar-ruby
CALSCALE:GREGORIAN
METHOD:PUBLISH
BEGIN:VEVENT
DTSTAMP:20260421T100027Z
UID:event-216139@stampinup.net
DTSTART;TZID=America/Chicago:20240307T193000
DTEND;TZID=America/Chicago:20240307T203000
CREATED:20240203T182340
DESCRIPTION:Sweet &amp\; Simple is back!!  This is a great class for begin
 ners or people that just need a quick creative break!  We will make 2 sim
 ple cards with envelopes for just $5!  If you have your own adhesive/scis
 sors/bone folders\, feel free to bring them.  I will have enought supplie
 s for everyone!  Invite a new friend and receive a thank you gift from me
 !\n\nEvent link: https://stampinup.net/crm/events/216139
LAST-MODIFIED:20240227T115852
LOCATION:My House\, 4108 Katy Court
ORGANIZER;CN=Laura Venvertloh:mailto:laurascreativecorner2007@gmail.com
SUMMARY:Sweet n Simple Cards 
URL;VALUE=URI:https://stampinup.net/crm/events/216139
END:VEVENT
END:VCALENDAR
