BEGIN:VCALENDAR
VERSION:2.0
PRODID:icalendar-ruby
CALSCALE:GREGORIAN
METHOD:PUBLISH
BEGIN:VEVENT
DTSTAMP:20260422T084055Z
UID:event-21595@stampinup.net
DTSTART;TZID=America/New_York:20191115T120000
DTEND;TZID=America/New_York:20191116T210000
CREATED:20191029T122705
DESCRIPTION:My down line demonstrators and I are in Hartford\, CT for all o
 f the Stampin'Up! excitement. There will be new product shown\, displays\,
  demonstrations and lots of swapping and sharingl Want to know how you can
  join us\, contact me. I would love to have you as a member of my team.\n\
 nEvent link: https://stampinup.net/crm/events/21595
LAST-MODIFIED:20191029T122705
ORGANIZER;CN=Debi Ryan:mailto:stampyourjourney@gmail.com
SUMMARY:OnStage Local
URL;VALUE=URI:https://stampinup.net/crm/events/21595
END:VEVENT
END:VCALENDAR
