BEGIN:VCALENDAR
VERSION:2.0
PRODID:icalendar-ruby
CALSCALE:GREGORIAN
METHOD:PUBLISH
BEGIN:VEVENT
DTSTAMP:20260421T194658Z
UID:event-215770@stampinup.net
DTSTART;TZID=America/Phoenix:20240215T130000
DTEND;TZID=America/Phoenix:20240215T150000
CREATED:20240131T063652
DESCRIPTION:In this fun\, in-person class\, we'll creeate three handmade gr
 eeting cards using products offered during Stampin' Up!'s SaleABration pro
 motion.\n\nCost is $15 or free with a $25 purchase. This class is the same
  as February 13\, 14\, and 17.\n\nThis class is currently full. Please con
 tact Kim directly (kimqskards@gmail.com) to be placed on the waiting list.
  Thank you!\n\nEvent link: https://stampinup.net/crm/events/215770
LAST-MODIFIED:20240131T063652
LOCATION:My Home\, East Mesa\, Arizona
ORGANIZER;CN=Kim Quade:mailto:kimqskards@gmail.com
SUMMARY:Create with Kim--SaleABration 2024
URL;VALUE=URI:https://stampinup.net/crm/events/215770
END:VEVENT
END:VCALENDAR
