BEGIN:VCALENDAR
VERSION:2.0
PRODID:icalendar-ruby
CALSCALE:GREGORIAN
METHOD:PUBLISH
BEGIN:VEVENT
DTSTAMP:20260421T162842Z
UID:event-215603@stampinup.net
DTSTART;TZID=America/Chicago:20240418T183000
DTEND;TZID=America/Chicago:20240418T203000
CREATED:20240129T100515
DESCRIPTION:We'll be making 6 kids cards (2 each of 3 designs).  Class fee
  is $15 or free with a minimum order.  Please RSVP by April 16th.  \n\n
 Event link: https://stampinup.net/crm/events/215603
LAST-MODIFIED:20240327T120906
LOCATION:Sandy's house\, 606 Centre Grove Circle\, Jonesboro\, AR
ORGANIZER;CN=Sandy Risi:mailto:sjrisix@aol.com
SUMMARY:April Card Class
URL;VALUE=URI:https://stampinup.net/crm/events/215603
END:VEVENT
END:VCALENDAR
