BEGIN:VCALENDAR
VERSION:2.0
PRODID:icalendar-ruby
CALSCALE:GREGORIAN
METHOD:PUBLISH
BEGIN:VEVENT
DTSTAMP:20260422T095637Z
UID:event-215290@stampinup.net
DTSTART;TZID=Australia/Brisbane:20240205T100000
DTEND;TZID=Australia/Brisbane:20240205T110000
CREATED:20240124T203114
DESCRIPTION:\n\nEvent link: https://stampinup.net/crm/events/215290
LAST-MODIFIED:20240124T203114
LOCATION:St Vincents \, 37 Baden Powel St Maroochydore
ORGANIZER;CN=Julia Quinn:mailto:julia@handmadebyjuliaquinn.com
SUMMARY:Nursing Home Volunteering making cards
URL;VALUE=URI:https://stampinup.net/crm/events/215290
RRULE:FREQ=MONTHLY;BYDAY=1SU
END:VEVENT
END:VCALENDAR
