BEGIN:VCALENDAR
VERSION:2.0
PRODID:icalendar-ruby
CALSCALE:GREGORIAN
METHOD:PUBLISH
BEGIN:VEVENT
DTSTAMP:20260423T020802Z
UID:event-215278@stampinup.net
DTSTART;TZID=America/New_York:20240222T180000
DTEND;TZID=America/New_York:20240222T210000
CREATED:20240124T193732
DESCRIPTION:You're invited to have some fun with me!\n\nCome to Bingo Night
 .....Stampin' Style!\n\nChance to win LOTS of Spring Mini Catalog and Sa
 le-a-Bration product - get it for FREE tonight instead of buying it!! \n\
 nWe'll play 6 or more games of Bingo with hundreds of dollars in prizes to
  be won from the new Catalogs!!  \n\nPLUS...  pillow gifts\, a gift cert
 ificate toward an order that night   \n\nAND...\n\na GRAND PRIZE COVERAL
 L GAME!!  - the winner receives a  Stampin' Up shopping spree!!\n\nThe w
 inner at the last bingo night went home with $100 in FREE PRODUCT!!\n\nBri
 ng a friend along and have an enjoyable night out!\n\nPlus you'll make 2 p
 rojects that night...so you're ALL winners!\n\nCost is $30.00\n\n(Chance t
 o win lots of awesome prizes!)\n\nSpace is limited!\n\n \n\nRSVP and PRE-
 PAY by Monday\, February 12.\n\n(so I have time to get all the prizes here
 !)\n\nDon't forget your scissors and adhesive.\n\n\nEvent link: https://st
 ampinup.net/crm/events/215278
LAST-MODIFIED:20240212T073345
LOCATION:Peace Lutheran Church\, 325 E Warwick Dr.   Alma\, MI  48801
ORGANIZER;CN=Amy Frillici:mailto:amy.frillici@yahoo.com
SUMMARY:Bingo Night Stampin’ Style
URL;VALUE=URI:https://stampinup.net/crm/events/215278
END:VEVENT
END:VCALENDAR
