BEGIN:VCALENDAR
VERSION:2.0
PRODID:icalendar-ruby
CALSCALE:GREGORIAN
METHOD:PUBLISH
BEGIN:VEVENT
DTSTAMP:20260421T023424Z
UID:event-215251@stampinup.net
DTSTART;TZID=America/New_York:20240219T100000
DTEND;TZID=America/New_York:20240219T120000
CREATED:20240124T170157
DESCRIPTION:We will be making cards using several Paper Pumpkin Kits.  Fee
  is $25.00 to make as many cards in the time alloted for the class.  When
  class is finished everyone will get to select 3 kits and get to keep all 
 the contents left over\,  This will always include at least the stamp set
  and ink spot. \n\nEvent link: https://stampinup.net/crm/events/215251
LAST-MODIFIED:20240127T072427
LOCATION:My home\, 4550 Fir Drive\, Nazareth\, PA
ORGANIZER;CN=Eileen Lang:mailto:Eilang56@aol.com
SUMMARY:Paper Pumpkin Kit Class
URL;VALUE=URI:https://stampinup.net/crm/events/215251
END:VEVENT
END:VCALENDAR
