BEGIN:VCALENDAR
VERSION:2.0
PRODID:icalendar-ruby
CALSCALE:GREGORIAN
METHOD:PUBLISH
BEGIN:VEVENT
DTSTAMP:20260425T142420Z
UID:event-215156@stampinup.net
DTSTART;TZID=America/New_York:20240220T130000
DTEND;TZID=America/New_York:20240220T150000
CREATED:20240123T100859
DESCRIPTION:This month we will create Sympathy/Thinking of You cards.  You
 'll have your choice of sentiments to use.\n\nRSVP needed by Wed.\, 2/14!!
   If you selected your spot during Jan. classes.\, you will need to confi
 rm your spot via the separate email invitation you'll receive.\n\nThe clas
 s fee is $15.  \n\nPlease bring your adhesive of choice and your favorit
 e craft scissors.  \n\n\n\n\n\n \n\nEvent link: https://stampinup.net/c
 rm/events/215156
LAST-MODIFIED:20240123T130958
LOCATION:Toni’s House - contact Toni for address
ORGANIZER;CN=Toni Campana:mailto:tcamp363@camppug.com
SUMMARY:Tue.. Afternoon Stamp Class 
URL;VALUE=URI:https://stampinup.net/crm/events/215156
END:VEVENT
END:VCALENDAR
