BEGIN:VCALENDAR
VERSION:2.0
PRODID:icalendar-ruby
CALSCALE:GREGORIAN
METHOD:PUBLISH
BEGIN:VEVENT
DTSTAMP:20260421T094452Z
UID:event-214721@stampinup.net
DTSTART;TZID=America/Chicago:20240213T180000
DTEND;TZID=America/Chicago:20240213T190000
CREATED:20240118T220224
DESCRIPTION:Deadline to register\, Friday\, January 26\n\n​When you Buy\,
  you receive the following:\n-Ice Cream Swirl Bundle (Stamp set and dies\;
  Substitute price: $53)\n-One Level 1 Sale-a-bration item\n-Extra supplies
  I provide\n\nIf you have some or all of these supplies and want to take t
 he class\, simply substitute other products that are the same price.\n\nYo
 u Make:\n-3 cards\n\n​You provide:\n-Ink\n-Adhesives\n-Die Cut Machine\n
 \n​Your cost:\n$65\, add $10 if shipping\n\n​Cost for Nutso Average St
 ampers team members: $8 (includes shipping of extra supplies)\n\n​\nTo m
 ake the projects:\nFacebook Live on Tuesday\, February 13\, at 6:00pm Cent
 ral\nfacebook.com/stampinnut\n​\nTo register: https://bit.ly/icecreamswi
 rlbuyandtry\n\nEvent link: https://stampinup.net/crm/events/214721
LAST-MODIFIED:20240118T220224
LOCATION:Live or later on Facebook
ORGANIZER;CN=Amy Rich:mailto:stampinnut@me.com
SUMMARY:Ice Cream Swirl Buy & Try
URL;VALUE=URI:https://stampinup.net/crm/events/214721
END:VEVENT
END:VCALENDAR
