BEGIN:VCALENDAR
VERSION:2.0
PRODID:icalendar-ruby
CALSCALE:GREGORIAN
METHOD:PUBLISH
BEGIN:VEVENT
DTSTAMP:20260424T183150Z
UID:event-214444@stampinup.net
DTSTART;TZID=America/New_York:20240309T130000
DTEND;TZID=America/New_York:20240309T160000
CREATED:20240116T070546
DESCRIPTION:Welcome Spring Card Class\nIn Person or get the Class-to-Go!\n\
 nJoin me as we create beautiful projects to help us welcome Spring! There 
 will be 2 Easter card designs!\n\nIn this class we will be creating 12 car
 ds and 3 treat holders featuring a Spring theme.\n\nClass includes:\nAll m
 aterials to create 12 cards\n3 treat holders\nEnvelopes\n$25 worth of Stam
 pin' Up Products\nPDF Tutorial with Video\n\nInvestment: $70\nAdd On's:\n
 Add On #1 $60.00  Excellent Eggs Bundle (While available)\nAdd On #2  $5
 6  Easter Bunny Stamp Set &amp\; Punch  (While available)\nAdd On #3 Adh
 esive Pack\nFor Add On's- I pay the tax and shipping!\n\nPinery Paper Pals
  Team Members: $35\n\nRSVP as spaces are limited.\n\nMary Anne\n\nEvent li
 nk: https://stampinup.net/crm/events/214444
LAST-MODIFIED:20240212T185737
LOCATION:The Pinery\, 156 Whitetail Drive\, Carp
ORGANIZER;CN=MaryAnne Cowan:mailto:maryannecowan@gmail.com
SUMMARY:Welcome Spring Mega Class
URL;VALUE=URI:https://stampinup.net/crm/events/214444
END:VEVENT
END:VCALENDAR
