BEGIN:VCALENDAR
VERSION:2.0
PRODID:icalendar-ruby
CALSCALE:GREGORIAN
METHOD:PUBLISH
BEGIN:VEVENT
DTSTAMP:20260424T073552Z
UID:event-213362@stampinup.net
DTSTART;TZID=America/Chicago:20240222T180000
DTEND;TZID=America/Chicago:20240222T190000
CREATED:20240107T081548
DESCRIPTION:Live Class date: Thursday\, February 22\, 6:00pm Central\nDeadl
 ine to register: Thursday\, February 1\n\nWe will make 3 cards using a not
  so ordinary techniques\, folds\, colors\, layouts...whatever I find that 
 makes not your typical card. The live event will be on Zoom\, and the reco
 rding will be an unlisted video on YouTube shared after the event\, if you
  don't attend live or if you want to watch again. This class has two optio
 ns.\n\nOption 1: I provide all materials except sentiments you'd like to a
 dd to your cards\, and adhesives. Cost for all materials is $12. Please ad
 d $4 to ship the supplies.\n\nOption 2: Purchase only the supplies list an
 d paper measurements PDF with video tutorial for $8.\n\nPayment can be pai
 d via Paypal\, Venmo\, Zelle\, or by check through the mail. Want in on se
 veral classes this month? Pay them all at once!\n\n\nTo finalize registrat
 ion\, you must fill out this form: https://bit.ly/sooto224\, then contact 
 Amy to set up payment.\n\n \n\n\nEvent link: https://stampinup.net/crm/ev
 ents/213362
LAST-MODIFIED:20240107T081548
LOCATION:Live on Zoom or later on YouTube
ORGANIZER;CN=Amy Rich:mailto:stampinnut@me.com
SUMMARY:Something Out of the Ordinary
URL;VALUE=URI:https://stampinup.net/crm/events/213362
END:VEVENT
END:VCALENDAR
