BEGIN:VCALENDAR
VERSION:2.0
PRODID:icalendar-ruby
CALSCALE:GREGORIAN
METHOD:PUBLISH
BEGIN:VEVENT
DTSTAMP:20260419T230440Z
UID:event-213349@stampinup.net
DTSTART;TZID=America/New_York:20240228T183000
DTEND;TZID=America/New_York:20240228T210000
CREATED:20240106T234119
DESCRIPTION:Join me to create some adorable projects for spring and Easter 
 using Easter and Spring themed products.  You can even choose the add-on 
 Easter sampler class!  \n\nAdd-On class will follow the main class\, from
  Noon-1pm.  This sampler will be faith themed.\n\nRSVP: by Feb 19th\nFee:
   $25\nOptional sampler add-on class:  $15 (faith themed)\nBring: basic 
 tools\, adhesive*\, and a friend\n\n*Adhesive is available for purchase at
  all classes.\n\nEvent link: https://stampinup.net/crm/events/213349
LAST-MODIFIED:20240217T151953
LOCATION:Mel's Inky Fingers
ORGANIZER;CN=Melanie Hockin:mailto:melsinkyfingers@gmail.com
SUMMARY: Easter Eggs and Lillies
URL;VALUE=URI:https://stampinup.net/crm/events/213349
END:VEVENT
END:VCALENDAR
