BEGIN:VCALENDAR
VERSION:2.0
PRODID:icalendar-ruby
CALSCALE:GREGORIAN
METHOD:PUBLISH
BEGIN:VEVENT
DTSTAMP:20260424T101640Z
UID:event-213348@stampinup.net
DTSTART;TZID=America/New_York:20240210T184500
DTEND;TZID=America/New_York:20240210T210000
CREATED:20240106T230449
DESCRIPTION:You won't want to miss one of the most fun events I offer!  \n
 \nJoin us for a night of games\, prizes\, treats and creativity!  This is
  always such a fun time\, and a perfect girl's night out - so grab your be
 stie (or 2 or 3)\, and join us for a rockin' night of fun!\n\nRSVP: by Jan
 uary 28th\nFee:  $40 (includes games\, prizes\, treat\, and project kits)
 \nBring: basic tools\, adhesive\, and your bestie!\n\nEvent link: https://
 stampinup.net/crm/events/213348
LAST-MODIFIED:20240130T084502
LOCATION:Mel's Inky Fingers Classroom
ORGANIZER;CN=Melanie Hockin:mailto:melsinkyfingers@gmail.com
SUMMARY:Game Night!
URL;VALUE=URI:https://stampinup.net/crm/events/213348
END:VEVENT
END:VCALENDAR
