BEGIN:VCALENDAR
VERSION:2.0
PRODID:icalendar-ruby
CALSCALE:GREGORIAN
METHOD:PUBLISH
BEGIN:VEVENT
DTSTAMP:20260423T083320Z
UID:event-213241@stampinup.net
DTSTART;VALUE=DATE:20240404
DTEND;VALUE=DATE:20240407
CREATED:20240105T151507
DESCRIPTION:It's time for a Crops Plus Crop and I'm your Stampin' Up! gal f
 or the weekend.  \n\nTo sign up for the crop please contact them directl
 y.\nhttp://ourcropsplus.com\n\nEvent link: https://stampinup.net/crm/event
 s/213241
LAST-MODIFIED:20240105T151507
LOCATION:Crowne Plaza\,\, Herndon\, VA
ORGANIZER;CN=Jeannette Swain:mailto:StampsNWhatnot@aol.com
SUMMARY:Crops Plus Event
URL;VALUE=URI:https://stampinup.net/crm/events/213241
END:VEVENT
END:VCALENDAR
