BEGIN:VCALENDAR
VERSION:2.0
PRODID:icalendar-ruby
CALSCALE:GREGORIAN
METHOD:PUBLISH
BEGIN:VEVENT
DTSTAMP:20260422T220051Z
UID:event-213230@stampinup.net
DTSTART;VALUE=DATE:20240418
DTEND;VALUE=DATE:20240421
CREATED:20240105T150629
DESCRIPTION:Time to crop with the Diva!  I'll be your Stampin' Up! gal for
  the weekend.  Come and hang out with us! To sign up\, please visit the I
 t's a Diva Crop and register directly.\n\nEvent link: https://stampinup.ne
 t/crm/events/213230
LAST-MODIFIED:20240105T150629
LOCATION:Best Western\, Leesburg\, 726 E Market St\, Leesburg\, VA 20176
ORGANIZER;CN=Jeannette Swain:mailto:StampsNWhatnot@aol.com
SUMMARY:It's a Diva Crop
URL;VALUE=URI:https://stampinup.net/crm/events/213230
END:VEVENT
END:VCALENDAR
